BEGIN:VCALENDAR
PRODID:-//eluceo/ical//2.0/EN
VERSION:2.0
CALSCALE:GREGORIAN
BEGIN:VEVENT
UID:2bf04c1485cf153812bdfc7a5402b56a
DTSTAMP:20260421T160536Z
SUMMARY:Israel @70 - #4 - Equal and More Equal
DESCRIPTION:Jewish Federation of the Berkshires\nBerkshire Jewish Community
  Calendar\nhttps://jewishberkshires.org/jewish-federation-of-the-berkshire
 s-calendar/israel-70---4---equal-and-more-equal-1527787957\n\nFrom the fir
 st years of the State\, the experience of Mizrahi (‘eastern’) Jews in 
 Israel differed markedly from that of their Ashkenazi neighbors. This clas
 s will explore stories of culture clashes\, discrimination and power dynam
 ics that led ultimately to the rise of the Likud party in the late 1970’
 s. Knesset Israel’s Israel @70 classes – a curriculum by Dr. Rachel Ko
 razim facilitated by Rabbi David Weiner - invite students to explore the I
 sraeli experience through poetry and song.
DTSTART;TZID=America/New_York:20180808T190000
DTEND;TZID=America/New_York:20180808T210000
END:VEVENT
END:VCALENDAR
