BEGIN:VCALENDAR
PRODID:-//eluceo/ical//2.0/EN
VERSION:2.0
CALSCALE:GREGORIAN
BEGIN:VEVENT
UID:72a747f73ad2228d7beda4d4112e1d49
DTSTAMP:20260422T222124Z
SUMMARY:"Islam and Islamism: The Same or Different Religions?"
DESCRIPTION:Jewish Federation of the Berkshires\nBerkshire Jewish Community
  Calendar\nhttps://jewishberkshires.org/jewish-federation-of-the-berkshire
 s-calendar/islam-and-islamism-the-same-or-different-religions-1411160839\n
 \n Dr. Alfred Ivry\, who has both a Doctorate in Jewish and in Islamic phi
 losophy\,  will be giving a talk about Islam and Islamism.  He will also d
 iscuss the principle of Jihad.  Reception to follow the program.  Requeste
 d donation of $10.
DTSTART;TZID=America/New_York:20141009T190000
DTEND;TZID=America/New_York:20141009T210000
END:VEVENT
END:VCALENDAR
