BEGIN:VCALENDAR
PRODID:-//eluceo/ical//2.0/EN
VERSION:2.0
CALSCALE:GREGORIAN
BEGIN:VEVENT
UID:d6e006540fa3744fff25e1af6079256c
DTSTAMP:20260422T085236Z
SUMMARY:Interfaith Forum on Death\, Dying and the Afterlife
DESCRIPTION:Jewish Federation of the Berkshires\nBerkshire Jewish Community
  Calendar\nhttps://jewishberkshires.org/jewish-federation-of-the-berkshire
 s-calendar/interfaith-forum-on-death-dying-and-the-afterlife\n\nInterfaith
  Forum on Death
DTSTART;TZID=America/New_York:20140209T130000
DTEND;TZID=America/New_York:20140209T170000
END:VEVENT
END:VCALENDAR
