BEGIN:VCALENDAR
PRODID:-//eluceo/ical//2.0/EN
VERSION:2.0
CALSCALE:GREGORIAN
BEGIN:VEVENT
UID:14c3fbe65198b32178f9fb98e70ca398
DTSTAMP:20260420T031251Z
SUMMARY:Inspiring Tale of Victor Borge with Rikke Borge
DESCRIPTION:Jewish Federation of the Berkshires\nBerkshire Jewish Community
  Calendar\nhttps://jewishberkshires.org/jewish-federation-of-the-berkshire
 s-calendar/inspiring-tale-of-victor-borge-with-rikke-borge\n\nThe Jewish F
 ederation Connecting with Community series welcomes Frederikke "Rikke" Bor
 ge who will speak about her father\, Victor Borge.  
DTSTART;TZID=America/New_York:20160922T104500
DTEND;TZID=America/New_York:20160922T120000
END:VEVENT
END:VCALENDAR
