BEGIN:VCALENDAR
PRODID:-//eluceo/ical//2.0/EN
VERSION:2.0
CALSCALE:GREGORIAN
BEGIN:VEVENT
UID:d495954aaacda8689f5a4943d8fb267a
DTSTAMP:20260421T042654Z
SUMMARY:Patience and Repentance: The Time Healing Takes
DESCRIPTION:Jewish Federation of the Berkshires\nBerkshire Jewish Community
  Calendar\nhttps://jewishberkshires.org/jewish-federation-of-the-berkshire
 s-calendar/inspirational-study-with-rabbi-sharon-cohen-anisfeld\n\nRSVP Re
 quired: Register Here\n\nJoin us for an inspiring morning of learning with
  Rabbi Sharon Cohen Anisfeld\, President of Hebrew College. This program i
 s presented in collaboration with Hebrew College. Space is limited and reg
 istration is required.  Graciously hosted at a private home\, the addres
 s will be provided to registered participants the week before the program.
   \n\nRabbi Sharon Cohen Anisfeld became President of Hebrew College in 
 July 2018\, after being appointed President-Elect...
DTSTART;TZID=America/New_York:20220828T100000
DTEND;TZID=America/New_York:20220828T120000
END:VEVENT
END:VCALENDAR
