BEGIN:VCALENDAR
PRODID:-//eluceo/ical//2.0/EN
VERSION:2.0
CALSCALE:GREGORIAN
BEGIN:VEVENT
UID:a6bf90f75d027d10039f30d4d8b94c1b
DTSTAMP:20260421T080132Z
SUMMARY:In Every Generation: Seeing Ourselves in the Haggadah
DESCRIPTION:Jewish Federation of the Berkshires\nBerkshire Jewish Community
  Calendar\nhttps://jewishberkshires.org/jewish-federation-of-the-berkshire
 s-calendar/in-every-generation-seeing-ourselves-in-the-haggadah\n\nThe Jew
 ish Federation of the Berkshires' Connecting with Community presents "In E
 very Generation: Seeing Ourselves in the Haggadah" with Rabbi Neil Hirsch 
 of Hevreh of Southern Berkshire.
DTSTART;TZID=America/New_York:20160421T104500
DTEND;TZID=America/New_York:20160421T120000
END:VEVENT
END:VCALENDAR
