BEGIN:VCALENDAR
PRODID:-//eluceo/ical//2.0/EN
VERSION:2.0
CALSCALE:GREGORIAN
BEGIN:VEVENT
UID:eee5074318db056d39ffe0dab3f20310
DTSTAMP:20260420T175721Z
SUMMARY:Immigrants in the Berkshires: Welcoming Newcomers & Why it Matters
DESCRIPTION:Jewish Federation of the Berkshires\nBerkshire Jewish Community
  Calendar\nhttps://jewishberkshires.org/jewish-federation-of-the-berkshire
 s-calendar/immigrants-in-the-berkshires-welcoming-newcomers-why-it-matters
 \n\nThe Jewish Federation Connecting with Community presents "Immigrants i
 n the Berkshires: Welcoming Newcomers & Why it Matters." 
DTSTART;TZID=America/New_York:20171130T104500
DTEND;TZID=America/New_York:20171130T120000
END:VEVENT
END:VCALENDAR
