BEGIN:VCALENDAR
PRODID:-//eluceo/ical//2.0/EN
VERSION:2.0
CALSCALE:GREGORIAN
BEGIN:VEVENT
UID:90a27a9d1c30ce9899c6547fc0dd8fd6
DTSTAMP:20260420T172002Z
SUMMARY:iEngage - The Tribes of Israel: A Shared Homeland for a Divided Peo
 ple
DESCRIPTION:Jewish Federation of the Berkshires\nBerkshire Jewish Community
  Calendar\nhttps://jewishberkshires.org/jewish-federation-of-the-berkshire
 s-calendar/iengage-the-tribes-of-israel-a-shared-homeland-for-a-divided-pe
 ople----\n\nJoin Rabbi Neil Hirsch and Rabbi David Weiner for a six sessio
 n class which confronts the challenges of creating a Jewish and democratic
  public space in the modern State of Israel – a shared common space for 
 a people divided along tribal affiliations: religious\, ideological\, nati
 onal\, and geographic. 
DTSTART;TZID=America/New_York:20170808T190000
DTEND;TZID=America/New_York:20170808T210000
END:VEVENT
END:VCALENDAR
