BEGIN:VCALENDAR
PRODID:-//eluceo/ical//2.0/EN
VERSION:2.0
CALSCALE:GREGORIAN
BEGIN:VEVENT
UID:26b6c1b124aa4bc633bdf845e4c20591
DTSTAMP:20260424T210625Z
SUMMARY:iEngage 2.0 – The Tribes of Israel: A Shared Homeland for a Divid
 ed People
DESCRIPTION:Jewish Federation of the Berkshires\nBerkshire Jewish Community
  Calendar\nhttps://jewishberkshires.org/jewish-federation-of-the-berkshire
 s-calendar/iengage-20--the-tribes-of-israel-a-shared-homeland-for-a-divide
 d-people-1492537156\n\nThis six-session class confronts the challenges of 
 creating a Jewish and democratic public space in the modern State of Israe
 l – a shared common space for a people divided along tribal affiliations
 : religious\, ideological\, national\, and geographical. 
DTSTART;TZID=America/New_York:20170718T190000
DTEND;TZID=America/New_York:20170718T210000
END:VEVENT
END:VCALENDAR
