BEGIN:VCALENDAR
PRODID:-//eluceo/ical//2.0/EN
VERSION:2.0
CALSCALE:GREGORIAN
BEGIN:VEVENT
UID:e8543de9896f640902ce38fe45c61bff
DTSTAMP:20260421T160353Z
SUMMARY:I\, Teresa de Lucena: Reflections on the Trial of a Conversa
DESCRIPTION:Jewish Federation of the Berkshires\nBerkshire Jewish Community
  Calendar\nhttps://jewishberkshires.org/jewish-federation-of-the-berkshire
 s-calendar/i-teresa-de-lucena-reflections-on-the-trial-of-a-conversa\n\nI\
 , Teresa de Lucena tells the story of a complex chapter of Spanish histor
 y through an intimate lens: the testimony of a woman who faced the Spanish
  Inquisition twice.\n\nTeresa was seventeen in 1485 when she and other con
 versos in Toledo faced the Inquisition for the first time\; she was sixty-
 two in 1530 when she was arrested and held for eighteen months in an Inqui
 sition jail. After a lengthy trial\, meticulously recorded by the official
  scribes\, she was found guilty of heresy for practicing...
DTSTART;TZID=America/New_York:20230608T104500
DTEND;TZID=America/New_York:20230608T120000
END:VEVENT
END:VCALENDAR
