BEGIN:VCALENDAR
PRODID:-//eluceo/ical//2.0/EN
VERSION:2.0
CALSCALE:GREGORIAN
BEGIN:VEVENT
UID:c687a03a70236c044ec58cc00f2ec2b0
DTSTAMP:20260421T154059Z
SUMMARY:I\, Teresa de Lucena: How We Built the Book
DESCRIPTION:Jewish Federation of the Berkshires\nBerkshire Jewish Community
  Calendar\nhttps://jewishberkshires.org/jewish-federation-of-the-berkshire
 s-calendar/i-teresa-de-lucena-how-we-built-the-book-1706210369\n\nI\, Tere
 sa de Lucena is a work of microhistory\, a nonfiction genre that places an
  individual at the center of the narrative and then zooms out to create th
 e larger context of her life and times. Where did she live? How old was sh
 e when her father fled from Spain? Who were the witnesses against her? The
  book\, based on Kanner’s translations of the original Inquisition trans
 cripts\, Zeybekoglu’s evocative illustrations and Rabbi Cohen’s insigh
 ts into Jewish culture\, creates an intimate...
DTSTART;TZID=America/New_York:20240428T160000
DTEND;TZID=America/New_York:20240428T170000
END:VEVENT
END:VCALENDAR
