BEGIN:VCALENDAR
PRODID:-//eluceo/ical//2.0/EN
VERSION:2.0
CALSCALE:GREGORIAN
BEGIN:VEVENT
UID:3ed18efffe46d5be9331afd3687054a4
DTSTAMP:20260419T154957Z
SUMMARY:I Loved Jew\, I Loved Jew Not: Live Theater Presented on Zoom
DESCRIPTION:Jewish Federation of the Berkshires\nBerkshire Jewish Community
  Calendar\nhttps://jewishberkshires.org/jewish-federation-of-the-berkshire
 s-calendar/i-loved-jew-i-loved-jew-not-live-theater-presented-on-zoom\n\nV
 irtual program. Please register by clicking HERE.  \n\nZoom link will o
 nly be provided to registered attendees TWO DAYS BEFORE the program.   
 Please watch your email for it.\n\nTrue stories of antisemitism and the st
 rength to stand against it are brought to life in a powerful new work of t
 heatre. Five actors perform these stories\, offering fresh words from Jews
  about today’s current crisis as well as other deeply personal experienc
 es not often covered in the media. \n\nReal\, raw\, an...
DTSTART;TZID=America/New_York:20240201T190000
DTEND;TZID=America/New_York:20240201T203000
END:VEVENT
END:VCALENDAR
