BEGIN:VCALENDAR
PRODID:-//eluceo/ical//2.0/EN
VERSION:2.0
CALSCALE:GREGORIAN
BEGIN:VEVENT
UID:c6a83b56bb262903bc0fbdd5edb5c9d3
DTSTAMP:20260423T061217Z
SUMMARY:Home of the Brave: When Southbury Said No to the Nazis
DESCRIPTION:Jewish Federation of the Berkshires\nBerkshire Jewish Community
  Calendar\nhttps://jewishberkshires.org/jewish-federation-of-the-berkshire
 s-calendar/home-of-the-brave-when-southbury-said-no-to-the-nazis\n\nThe Je
 wish Federation Connecting with Community program presents "Home of the Br
 ave: When Southbury Said No to the Nazis"
DTSTART;TZID=America/New_York:20170406T104500
DTEND;TZID=America/New_York:20170406T120000
END:VEVENT
END:VCALENDAR
