BEGIN:VCALENDAR
PRODID:-//eluceo/ical//2.0/EN
VERSION:2.0
CALSCALE:GREGORIAN
BEGIN:VEVENT
UID:69e4c814780f1c5bb803a578a1d2879d
DTSTAMP:20260422T144727Z
SUMMARY:Holocaust survivors' book of recipes  with Joanne Caras
DESCRIPTION:Jewish Federation of the Berkshires\nBerkshire Jewish Community
  Calendar\nhttps://jewishberkshires.org/jewish-federation-of-the-berkshire
 s-calendar/holocaust-survivors-book-of-recipes--with-joanne-caras-14356934
 79\n\nHolocaust survivors' book of recipes from around the world with Joan
 ne Caras\n\nJoin Author and TV star Joanne Caras on Monday July 6th at 1 P
 M for an inspirational afternoon. Joanne’s two cookbooks The Holocaust S
 urvivor Cookbook and its sequel Miracles & Meals are a collection of many 
 stories and recipes collected from Holocaust Survivors. Joanne will relate
  moving and miraculous stories that appear in her books. Joanne has appear
 ed on Fox-TV\, CBS\, NBC\, and national radio in the US\,...
DTSTART;TZID=America/New_York:20150706T130000
DTEND;TZID=America/New_York:20150706T235959
END:VEVENT
END:VCALENDAR
