BEGIN:VCALENDAR
PRODID:-//eluceo/ical//2.0/EN
VERSION:2.0
CALSCALE:GREGORIAN
BEGIN:VEVENT
UID:aba75a80b73539a029915cc8f0b9b20f
DTSTAMP:20260424T053033Z
SUMMARY:Hiding Horst\, a play reading
DESCRIPTION:Jewish Federation of the Berkshires\nBerkshire Jewish Community
  Calendar\nhttps://jewishberkshires.org/jewish-federation-of-the-berkshire
 s-calendar/hiding-horst-a-play-reading\n\nStaged Reading – Hiding Horst\
 , with Laura Ferber-Hazen and community actors\, who will perform the play
  Hiding Horst\, which is based on a true Holocaust story. 
DTSTART;TZID=America/New_York:20160908T104500
DTEND;TZID=America/New_York:20160908T120000
END:VEVENT
END:VCALENDAR
