BEGIN:VCALENDAR
PRODID:-//eluceo/ical//2.0/EN
VERSION:2.0
CALSCALE:GREGORIAN
BEGIN:VEVENT
UID:5326f706e92bea6957f1a08ad3a85490
DTSTAMP:20260423T172002Z
SUMMARY:HEVREH’S PERFECT PURIMSHPIEL-SHPIEL
DESCRIPTION:Jewish Federation of the Berkshires\nBerkshire Jewish Community
  Calendar\nhttps://jewishberkshires.org/jewish-federation-of-the-berkshire
 s-calendar/hevrehs-perfect-purimshpiel-shpiel-1550598571\n\nHEVREH’S PER
 FECT PURIMSHPIEL-SHPIEL All are invited to attend Hevreh’s 2019 confirma
 tion class original shpiel production. A hilarious behind the scenes farce
  that will keep you on the edge of your seat.Our Purimshpiel\, performed b
 y our Confirmation Class\, is under the creative leadership of a new direc
 tor\, Joshua Briggs and our always fabulous accompanist\, Amy Renak.Gragge
 rs and noisemakers will be provided and delicious hamentaschen will be ser
 ved following the show. This event is suite...
DTSTART;TZID=America/New_York:20190320T180000
DTEND;TZID=America/New_York:20190320T200000
END:VEVENT
END:VCALENDAR
