BEGIN:VCALENDAR
PRODID:-//eluceo/ical//2.0/EN
VERSION:2.0
CALSCALE:GREGORIAN
BEGIN:VEVENT
UID:7139273e5732fcff8086d644289b31c4
DTSTAMP:20260424T234917Z
SUMMARY:Hevreh Presents the Fred Lafer Memorial Lecture with Dr. Laura Whar
 ton
DESCRIPTION:Jewish Federation of the Berkshires\nBerkshire Jewish Community
  Calendar\nhttps://jewishberkshires.org/jewish-federation-of-the-berkshire
 s-calendar/hevreh-presents-the-fred-lafer-memorial-lecture-with-dr-laura-w
 harton-1492617215\n\nJerusalem and the Struggle for Coexistence: The Insid
 e Story\nOne hears about Jerusalem in the news and many of us have visited
  the city.  But what does life look there?  What trends have been emerging
 ?  Dr. Laura Wharton\, a Jerusalem City Councilor\, will present an inside
 r's view. \n
DTSTART;TZID=America/New_York:20170629T190000
DTEND;TZID=America/New_York:20170629T210000
END:VEVENT
END:VCALENDAR
