BEGIN:VCALENDAR
PRODID:-//eluceo/ical//2.0/EN
VERSION:2.0
CALSCALE:GREGORIAN
BEGIN:VEVENT
UID:9e81b4f7559182d4edb6aceb2ad10da6
DTSTAMP:20260420T180124Z
SUMMARY:Hevreh Presents: Hannah Senesh - Another Look
DESCRIPTION:Jewish Federation of the Berkshires\nBerkshire Jewish Community
  Calendar\nhttps://jewishberkshires.org/jewish-federation-of-the-berkshire
 s-calendar/hevreh-presents-hannah-senesh---another-look-1492540174\n\nHann
 ah Senesh was arguably the most important hero to emerge from the Palestin
 ian Jewish community during World War II.  She quickly became the stuff of
  legend\, and to this day she is the &ldquo\;patron saint&rdquo\; of the p
 arachute corps of the Israel Defense Forces.
DTSTART;TZID=America/New_York:20170713T153000
DTEND;TZID=America/New_York:20170713T170000
END:VEVENT
END:VCALENDAR
