BEGIN:VCALENDAR
PRODID:-//eluceo/ical//2.0/EN
VERSION:2.0
CALSCALE:GREGORIAN
BEGIN:VEVENT
UID:fa2092765da3208b0ffc912c92371afe
DTSTAMP:20260421T141530Z
SUMMARY:Hevreh Presents Good to Go – Planning for a Good Death
DESCRIPTION:Jewish Federation of the Berkshires\nBerkshire Jewish Community
  Calendar\nhttps://jewishberkshires.org/jewish-federation-of-the-berkshire
 s-calendar/hevreh-presents-good-to-go--planning-for-a-good-death-149253813
 5\n\nThe writer and teacher\, Erica Brown\, writes in her book Happier End
 ings\, &ldquo\;Every minute of every hour people die\, yet unless it&rsquo
 \;s the death of someone you love\, the rituals and practices that follow 
 death seem like machinations of a secret society that you were never invit
 ed to join.&rdquo\;  We should all have access to the rituals that precede
  and follow the death of a loved one.  There is no Jewish secret society. 
DTSTART;TZID=America/New_York:20170608T153000
DTEND;TZID=America/New_York:20170608T173000
END:VEVENT
END:VCALENDAR
