BEGIN:VCALENDAR
PRODID:-//eluceo/ical//2.0/EN
VERSION:2.0
CALSCALE:GREGORIAN
BEGIN:VEVENT
UID:813d20ca5085ede24146e6390233cbce
DTSTAMP:20260426T041811Z
SUMMARY:Hevreh presents "ESTHER    A Purimspiel Musical"
DESCRIPTION:Jewish Federation of the Berkshires\nBerkshire Jewish Community
  Calendar\nhttps://jewishberkshires.org/jewish-federation-of-the-berkshire
 s-calendar/hevreh-presents-esther----a-purimspiel-musical-1486577721\n\nDo
 n&rsquo\;t throw away YOUR SHOT to see a PURIMSPIEL THAT&rsquo\;S HOT!\nYo
 u&rsquo\;ll want to be in the room where it happens.  Hevreh&rsquo\;s Conf
 irmation Class annual Purimspiel will tell the story of Mordecai\, Esther\
 , Ahaseurus\, and Haman like you&rsquo\;ve never heard it before. 
DTSTART;TZID=America/New_York:20170311T180000
DTEND;TZID=America/New_York:20170311T200000
END:VEVENT
END:VCALENDAR
