BEGIN:VCALENDAR
PRODID:-//eluceo/ical//2.0/EN
VERSION:2.0
CALSCALE:GREGORIAN
BEGIN:VEVENT
UID:dfa1b3ff58524f1410368deda74d6a8b
DTSTAMP:20260425T125617Z
SUMMARY:Hevreh Presents Behind the Scenes: Making Tootsie
DESCRIPTION:Jewish Federation of the Berkshires\nBerkshire Jewish Community
  Calendar\nhttps://jewishberkshires.org/jewish-federation-of-the-berkshire
 s-calendar/hevreh-presents-behind-the-scenes-making-tootsie-1492622459\n\n
 As the only journalist that director Sydney Pollack and Columbia Pictures 
 permitted on the set and in the editing room\, Susan Dworkin conducted in-
 depth interviews not only with Pollack and Dustin Hoffman\, but also with 
 the costume designer\, film editors\, co-stars Teri Garr\, Bill Murray\, D
 abney Coleman\, and many others.
DTSTART;TZID=America/New_York:20170817T153000
DTEND;TZID=America/New_York:20170817T170000
END:VEVENT
END:VCALENDAR
