BEGIN:VCALENDAR
PRODID:-//eluceo/ical//2.0/EN
VERSION:2.0
CALSCALE:GREGORIAN
BEGIN:VEVENT
UID:924fe37bc1dcb04881df914a65f41232
DTSTAMP:20260424T081740Z
SUMMARY:Hevreh Hits the Farmer’s Market
DESCRIPTION:Jewish Federation of the Berkshires\nBerkshire Jewish Community
  Calendar\nhttps://jewishberkshires.org/jewish-federation-of-the-berkshire
 s-calendar/hevreh-hits-the-farmers-market-1554830921\n\nCome for the veggi
 es\, stay for Shabbat. Stop by the Hevreh booth at the Great Barrington Fa
 rmer's Market to partake in some Shabbat sweetness. See what we're up to t
 his summer and catch up over challah and grape juice. On August 10\, famil
 ies with young children are invited to Tot Shabbat on the Town.
DTSTART;TZID=America/New_York:20190810T080000
DTEND;TZID=America/New_York:20190810T100000
END:VEVENT
END:VCALENDAR
