BEGIN:VCALENDAR
PRODID:-//eluceo/ical//2.0/EN
VERSION:2.0
CALSCALE:GREGORIAN
BEGIN:VEVENT
UID:802ec3740881badffae50448a2b1061f
DTSTAMP:20260425T155457Z
SUMMARY:Hevreh Hikes
DESCRIPTION:Jewish Federation of the Berkshires\nBerkshire Jewish Community
  Calendar\nhttps://jewishberkshires.org/jewish-federation-of-the-berkshire
 s-calendar/hevreh-hikes-1744911982\n\nJoin us to explore the incredible hi
 kes all around us. These are gentle hikes\, intended for anyone who wants 
 to join. Check the Hevreh website for information about location. All that
 ’s needed are sturdy walking shoes and\, if desired\, a walking stick.
DTSTART;TZID=America/New_York:20250608T090000
DTEND;TZID=America/New_York:20250608T110000
END:VEVENT
END:VCALENDAR
