BEGIN:VCALENDAR
PRODID:-//eluceo/ical//2.0/EN
VERSION:2.0
CALSCALE:GREGORIAN
BEGIN:VEVENT
UID:31dca1da7bb7292f54edf319bb2214c3
DTSTAMP:20260420T005115Z
SUMMARY:Hevreh Goes to the Movies: Wrestling Jerusalem
DESCRIPTION:Jewish Federation of the Berkshires\nBerkshire Jewish Community
  Calendar\nhttps://jewishberkshires.org/jewish-federation-of-the-berkshire
 s-calendar/hevreh-goes-to-the-movies-wrestling-jerusalem-1523985813\n\nDes
 cription:Based on his critically acclaimed one-man stage show\, writer-act
 or Aaron Davidman conjures a host of different characters while seeking an
 swers to the Israeli-Palestinian conflict in WRESTLING JERUSALEM. Davidman
  takes a multidimensional journey into the heart of the Middle East\, and 
 the intersection of politics\, identity and spiritual yearning. He embodie
 s and gives voice to 17 different characters on all sides of the existenti
 al divide–deftly moving between male and female\, Je...
DTSTART;TZID=America/New_York:20180624T103000
DTEND;TZID=America/New_York:20180624T133000
END:VEVENT
END:VCALENDAR
