BEGIN:VCALENDAR
PRODID:-//eluceo/ical//2.0/EN
VERSION:2.0
CALSCALE:GREGORIAN
BEGIN:VEVENT
UID:2a5798f88e82106aba3fc0ee35608676
DTSTAMP:20260421T010352Z
SUMMARY:Hevreh Ensemble-Loli Kantor Collaboration
DESCRIPTION:Jewish Federation of the Berkshires\nBerkshire Jewish Community
  Calendar\nhttps://jewishberkshires.org/jewish-federation-of-the-berkshire
 s-calendar/hevreh-ensemble-loli-kantor-collaboration-1536781327\n\nSouth B
 erkshire Concerts presents an exciting and innovative multi-media collabor
 ation with Hevreh Ensemble and photographer Loli Kantor. Titled “Path of
  Light\,” the project includes original works by Hevreh member and compo
 ser Jeff Adler and a video projection incorporating images from Loli Kanto
 r’s “Beyond the Forest”--Jewish Presence in Eastern Europe 2004-2012
 . The work was performed over the summer for the International Jewish Cult
 ural Festival in Krakow\, Poland and in Lublin a...
DTSTART;TZID=America/New_York:20180929T200000
DTEND;TZID=America/New_York:20180929T213000
END:VEVENT
END:VCALENDAR
