BEGIN:VCALENDAR
PRODID:-//eluceo/ical//2.0/EN
VERSION:2.0
CALSCALE:GREGORIAN
BEGIN:VEVENT
UID:c6c46108df6ec03870bbb9a1e39686ae
DTSTAMP:20260425T125102Z
SUMMARY:Hevreh Crafting Circle
DESCRIPTION:Jewish Federation of the Berkshires\nBerkshire Jewish Community
  Calendar\nhttps://jewishberkshires.org/jewish-federation-of-the-berkshire
 s-calendar/hevreh-crafting-circle-1674582435\n\nJoin us for our monthly cr
 afting group at Hevreh. Do you knit\, stitch\, sew\, crochet\, paint\, bea
 d? Are you looking for some company? Join like-minded crafters at Hevreh's
  Crafting Circle. Bring your own crafting projects to work on. Light refre
 shments will be provided. RSVP to nancy.barbe@gmail.com
DTSTART;TZID=America/New_York:20230302T133000
DTEND;TZID=America/New_York:20230302T150000
END:VEVENT
END:VCALENDAR
