BEGIN:VCALENDAR
PRODID:-//eluceo/ical//2.0/EN
VERSION:2.0
CALSCALE:GREGORIAN
BEGIN:VEVENT
UID:3f0a99f483742f5396fb90f89ffc2af8
DTSTAMP:20260423T023947Z
SUMMARY:Hevreh Celebrates Shabbat Shira
DESCRIPTION:Jewish Federation of the Berkshires\nBerkshire Jewish Community
  Calendar\nhttps://jewishberkshires.org/jewish-federation-of-the-berkshire
 s-calendar/hevreh-celebrates-shabbat-shira-1422288959\n\nThis very special
  Shabbat service is filled with music and joy as members of the choir come
  together with Student Cantor Laura Stein to fill our sanctuary with their
  beautiful voices.
DTSTART;TZID=America/New_York:20150130T180000
DTEND;TZID=America/New_York:20150131T130000
END:VEVENT
END:VCALENDAR
