BEGIN:VCALENDAR
PRODID:-//eluceo/ical//2.0/EN
VERSION:2.0
CALSCALE:GREGORIAN
BEGIN:VEVENT
UID:7127bc3927b6f6dd2c41d0bafdfd752e
DTSTAMP:20260421T172716Z
SUMMARY:Hevreh at "The Chosen"
DESCRIPTION:Jewish Federation of the Berkshires\nBerkshire Jewish Community
  Calendar\nhttps://jewishberkshires.org/jewish-federation-of-the-berkshire
 s-calendar/hevreh-at-the-chosen\n\nHevreh at the Theater
DTSTART;TZID=America/New_York:20130801T200000
DTEND;TZID=America/New_York:20130801T220000
END:VEVENT
END:VCALENDAR
