BEGIN:VCALENDAR
PRODID:-//eluceo/ical//2.0/EN
VERSION:2.0
CALSCALE:GREGORIAN
BEGIN:VEVENT
UID:e7bcee02ea36c5f283304997d7e6667c
DTSTAMP:20260423T060154Z
SUMMARY:Heart of  A Stranger:  Jewish Book Month 100 with Rabbi Angela Buch
 dahl
DESCRIPTION:Jewish Federation of the Berkshires\nBerkshire Jewish Community
  Calendar\nhttps://jewishberkshires.org/jewish-federation-of-the-berkshire
 s-calendar/heart-of-a-stranger-rabbi-angela-buchdahl\n\nSPECIAL EVENT—He
 art of a Stranger: An Unlikely Rabbi’s Story of Faith\, Identity\, and B
 elonging\n\nVia Zoom.  Register HERE.\n\nJewish Literary Voices: A Federa
 tion Series in collaboration with The Jewish Book Council\n\nJoin Jewish B
 ook Council in partnership with Jewish Federation of the Berkshires and ot
 her JBC Network sites for a book discussion with Rabbi Angela Buchdahl in 
 conversation with Abigail Pogrebin.\n\nFrom the first Asian-Amer­i­­can
  to be ordained as a rab­bi\, a sti...
DTSTART;TZID=America/New_York:20251118T130000
DTEND;TZID=America/New_York:20251118T140000
END:VEVENT
END:VCALENDAR
