BEGIN:VCALENDAR
PRODID:-//eluceo/ical//2.0/EN
VERSION:2.0
CALSCALE:GREGORIAN
BEGIN:VEVENT
UID:ee419d3ce99e643bd63a37b528174fb9
DTSTAMP:20260421T141610Z
SUMMARY:Healthy Living for Your Brain and Body
DESCRIPTION:Jewish Federation of the Berkshires\nBerkshire Jewish Community
  Calendar\nhttps://jewishberkshires.org/jewish-federation-of-the-berkshire
 s-calendar/healthy-living-for-your-brain-and-body\n\n "Healthy Living for 
 Your Brain and Body" with Meghan Lemay\, regional manager of the Alzheimer
 's Association in western MA.
DTSTART;TZID=America/New_York:20190107T104500
DTEND;TZID=America/New_York:20190107T120000
END:VEVENT
END:VCALENDAR
