BEGIN:VCALENDAR
PRODID:-//eluceo/ical//2.0/EN
VERSION:2.0
CALSCALE:GREGORIAN
BEGIN:VEVENT
UID:ab981ad78e63d7958e9769d40d6a1d12
DTSTAMP:20260419T162333Z
SUMMARY:Healthful\, Flavorful Kitchen Techniques with Chef Anna Gershenson
DESCRIPTION:Jewish Federation of the Berkshires\nBerkshire Jewish Community
  Calendar\nhttps://jewishberkshires.org/jewish-federation-of-the-berkshire
 s-calendar/healthful-flavorful-kitchen-techniques-with-chef-anna-gershenso
 n-1425053617\n\nGo-to Marinade\, Salsa\, Fruit Crumble Dessert Reinforce y
 our vegetarian dishes\, salads\, and fish entrees with irresistible embell
 ishments composed of mouthwatering combinations of fruits\,  vegetables an
 d chocolate.$15 per class $25 for the series  Add these flavorful accompan
 iments to your repertoire!Reservations MUST be made by the Wednesday prior
  to the class (4/15\, 4/22) to assure that everyone can sample the delicio
 us results! (413)-445-4872 x16 or mhammerling@knessetisrael.org
DTSTART;TZID=America/New_York:20150427T183000
DTEND;TZID=America/New_York:20150427T200000
END:VEVENT
END:VCALENDAR
