BEGIN:VCALENDAR
PRODID:-//eluceo/ical//2.0/EN
VERSION:2.0
CALSCALE:GREGORIAN
BEGIN:VEVENT
UID:01201c01bab7dc77889c5875c2927218
DTSTAMP:20260422T195616Z
SUMMARY:Healthful\, Flavorful Kitchen Techniques with Chef Anna Gershenson
DESCRIPTION:Jewish Federation of the Berkshires\nBerkshire Jewish Community
  Calendar\nhttps://jewishberkshires.org/jewish-federation-of-the-berkshire
 s-calendar/healthful-flavorful-kitchen-techniques-with-chef-anna-gershenso
 n-1425053306\n\nChicken Drizzle\, Pesto-nosh\, Hot and Sour Soba\n\nAdding
  flavor to otherwise simple preparations\ncomes naturally to Anna\, as she
  combines fresh\nproduce\, herbs and spices to bring the taste\nof main an
 d side dishes from OK to WOW!\n\n \n\n$15 per class\n$25 for the series\n
 Add these flavorful accompaniments to your repertoire!\n\nReservations MUS
 T be made by the Wednesday prior to the class\n(4/15\, 4/22) to assure tha
 t everyone can sample the delicious results!\n(413)-445-4872 x16 or mhamme
 ...
DTSTART;TZID=America/New_York:20150420T183000
DTEND;TZID=America/New_York:20150420T200000
END:VEVENT
END:VCALENDAR
