BEGIN:VCALENDAR
PRODID:-//eluceo/ical//2.0/EN
VERSION:2.0
CALSCALE:GREGORIAN
BEGIN:VEVENT
UID:9582e6319d269bb98479619f79b5b084
DTSTAMP:20260422T150706Z
SUMMARY:Havdallah Service at Tanglewood: Simply Sondheim
DESCRIPTION:Jewish Federation of the Berkshires\nBerkshire Jewish Community
  Calendar\nhttps://jewishberkshires.org/jewish-federation-of-the-berkshire
 s-calendar/havdallah-service-at-tanglewood-simply-sondheim-1427295338\n\nB
 ring a picnic lunch and join Rabbi Josh Breindel and Temple Anshe Amunim m
 embers for a Havdallah service at Tanglewood.  Rabbi Josh will discuss Ste
 phen Sondheim's Jewish Legacy\, followed by a Havdallah service and evenin
 g featuring the Boston Pops Esplanade Orchestra in a tribute to Sondheim.
DTSTART;TZID=America/New_York:20150620T173000
DTEND;TZID=America/New_York:20150620T220000
END:VEVENT
END:VCALENDAR
