BEGIN:VCALENDAR
PRODID:-//eluceo/ical//2.0/EN
VERSION:2.0
CALSCALE:GREGORIAN
BEGIN:VEVENT
UID:c06c5cfea2978d8d30e9d121f857a553
DTSTAMP:20260422T032119Z
SUMMARY:Hanukkah Celebration 2016 at the Yiddish Book Center
DESCRIPTION:Jewish Federation of the Berkshires\nBerkshire Jewish Community
  Calendar\nhttps://jewishberkshires.org/jewish-federation-of-the-berkshire
 s-calendar/hanukkah-celebration-2016-at-the-yiddish-book-center-1471635960
 \n\nA Day of Activities for All Ages11AM | Holiday Song Workshop  Learn Yi
 ddish holiday songs with Asya Vaisman Schulman\, director of the Center's 
 Yiddish Language Institute\, accompanied by musician Brian Bender\, in thi
 s one-hour workshop. 1PM | Children's Reading Circle  Readings of holiday-
 themed children's books\, plus a holiday craft activity\, in our Nancy B. 
 Weinstein Kinder Vinkl (children's corner). All day: Scavenger hunts throu
 ghout the Yiddish Book Center\, for young detektivn (detectives...
DTSTART;TZID=America/New_York:20161218T100000
DTEND;TZID=America/New_York:20161218T160000
END:VEVENT
END:VCALENDAR
