BEGIN:VCALENDAR
PRODID:-//eluceo/ical//2.0/EN
VERSION:2.0
CALSCALE:GREGORIAN
BEGIN:VEVENT
UID:f785b24c229c6955f428ad14b17cc171
DTSTAMP:20260422T121320Z
SUMMARY:Hanukkah Candle-Dipping Workshop for Families
DESCRIPTION:Jewish Federation of the Berkshires\nBerkshire Jewish Community
  Calendar\nhttps://jewishberkshires.org/jewish-federation-of-the-berkshire
 s-calendar/hanukkah-candle-dipping-workshop-for-families-1539867826\n\nMak
 e your own set of locally sourced\, earth friendly beeswax candles this Ha
 nukkah! In this free\, family-centered workshop\, we'll explore what it is
  about bee’s wax that makes it a great choice for dipping our very own c
 andles. Our project will be followed by a friendly Shabbat dinner and simp
 le\, spirited Shabbat service. Location: Congregation Beth Israel\, 53 Loi
 s St.\, North Adams\, MA. RSVP to Rabbi Jarah Greenfield at rabbiJgreenfie
 ld@gmail.com.  
DTSTART;TZID=America/New_York:20181116T170000
DTEND;TZID=America/New_York:20181116T200000
END:VEVENT
END:VCALENDAR
