BEGIN:VCALENDAR
PRODID:-//eluceo/ical//2.0/EN
VERSION:2.0
CALSCALE:GREGORIAN
BEGIN:VEVENT
UID:e421d1274343e069ff5260f68691c800
DTSTAMP:20260422T050346Z
SUMMARY:Hannuka Shirei Shabbat & Community Dinner
DESCRIPTION:Jewish Federation of the Berkshires\nBerkshire Jewish Community
  Calendar\nhttps://jewishberkshires.org/jewish-federation-of-the-berkshire
 s-calendar/hannuka-shirei-shabbat--community-dinner-1754490571\n\nMusical\
 , family-friendly 'Shirei Shabbat' service at 5:45\, followed by a kosher 
 dinner at 6:45. Advance registration required.
DTSTART;TZID=America/New_York:20251219T174500
DTEND;TZID=America/New_York:20251219T204500
END:VEVENT
END:VCALENDAR
