BEGIN:VCALENDAR
PRODID:-//eluceo/ical//2.0/EN
VERSION:2.0
CALSCALE:GREGORIAN
BEGIN:VEVENT
UID:02be6e0627fb38f35cdf1e66a1aa43e4
DTSTAMP:20260420T031021Z
SUMMARY:Hadassh Book Club
DESCRIPTION:Jewish Federation of the Berkshires\nBerkshire Jewish Community
  Calendar\nhttps://jewishberkshires.org/jewish-federation-of-the-berkshire
 s-calendar/hadassh-book-club-1439228026\n\nDiscussion of a book of general
  Jewish interest. Light refreshments served.
DTSTART;TZID=America/New_York:20160428T193000
DTEND;TZID=America/New_York:20160428T213000
END:VEVENT
END:VCALENDAR
