BEGIN:VCALENDAR
PRODID:-//eluceo/ical//2.0/EN
VERSION:2.0
CALSCALE:GREGORIAN
BEGIN:VEVENT
UID:e5dcef44aabdc192f5fc51abce9ed044
DTSTAMP:20260422T134208Z
SUMMARY:Hadassah Major Gifts and Keepers
DESCRIPTION:Jewish Federation of the Berkshires\nBerkshire Jewish Community
  Calendar\nhttps://jewishberkshires.org/jewish-federation-of-the-berkshire
 s-calendar/hadassah-major-gifts-and-keepers-1438112367\n\nHadassah Major G
 ifts and Keepers event from 4 to 6 PM. Details TBD\nFor information please
  contact Ellen Masters (413) 443-4386
DTSTART;TZID=America/New_York:20160626T000000
DTEND;TZID=America/New_York:20160626T000000
END:VEVENT
END:VCALENDAR
