BEGIN:VCALENDAR
PRODID:-//eluceo/ical//2.0/EN
VERSION:2.0
CALSCALE:GREGORIAN
BEGIN:VEVENT
UID:fda698e2036ca3f7c251f7b569cb79ea
DTSTAMP:20260420T151158Z
SUMMARY:Hadassah Mah Jongg 
DESCRIPTION:Jewish Federation of the Berkshires\nBerkshire Jewish Community
  Calendar\nhttps://jewishberkshires.org/jewish-federation-of-the-berkshire
 s-calendar/hadassah-mah-jongg\n\nMore details to follow
DTSTART;TZID=America/New_York:20150302T120000
DTEND;TZID=America/New_York:20150302T160000
END:VEVENT
END:VCALENDAR
