BEGIN:VCALENDAR
PRODID:-//eluceo/ical//2.0/EN
VERSION:2.0
CALSCALE:GREGORIAN
BEGIN:VEVENT
UID:2c46008d664f844460182649e97fe0da
DTSTAMP:20260423T025220Z
SUMMARY:Hadassah Chai Society and Nejaimes Sponsored Wine & Cheese Tasting
DESCRIPTION:Jewish Federation of the Berkshires\nBerkshire Jewish Community
  Calendar\nhttps://jewishberkshires.org/jewish-federation-of-the-berkshire
 s-calendar/hadassah-chai-society-and-nejaimes-sponsored-wine--cheese-tasti
 ng-1430228869\n\nLocated at 60 Main Street\, Lenox Village.
DTSTART;TZID=America/New_York:20150906T150000
DTEND;TZID=America/New_York:20150906T180000
END:VEVENT
END:VCALENDAR
