BEGIN:VCALENDAR
PRODID:-//eluceo/ical//2.0/EN
VERSION:2.0
CALSCALE:GREGORIAN
BEGIN:VEVENT
UID:65bafbbbefa25d5271ed3485b1acff9b
DTSTAMP:20260420T062419Z
SUMMARY:Hadassah Book Group - The Wolf Hunt by Ayelet Gundar-Goshen
DESCRIPTION:Jewish Federation of the Berkshires\nBerkshire Jewish Community
  Calendar\nhttps://jewishberkshires.org/jewish-federation-of-the-berkshire
 s-calendar/hadassah-book-group---the-wolf-hunt-by-ayelet-gundar-goshen-170
 8111148\n\nDiscussion of The Wolf Hunt by Ayelet Gundar-Goshen\nEmail us a
 t berkshirehillshadassah@gmail.com for details and optional lunch follow
 ing
DTSTART;TZID=America/New_York:20240311T104500
DTEND;TZID=America/New_York:20240311T120000
END:VEVENT
END:VCALENDAR
