BEGIN:VCALENDAR
PRODID:-//eluceo/ical//2.0/EN
VERSION:2.0
CALSCALE:GREGORIAN
BEGIN:VEVENT
UID:7a429402d612b666cf7a6293c21fafb2
DTSTAMP:20260425T030416Z
SUMMARY:Hadassah book club
DESCRIPTION:Jewish Federation of the Berkshires\nBerkshire Jewish Community
  Calendar\nhttps://jewishberkshires.org/jewish-federation-of-the-berkshire
 s-calendar/hadassah-book-club-43895\n\nHadassah book club
DTSTART;TZID=America/New_York:20140626T193000
DTEND;TZID=America/New_York:20140626T210000
END:VEVENT
END:VCALENDAR
