BEGIN:VCALENDAR
PRODID:-//eluceo/ical//2.0/EN
VERSION:2.0
CALSCALE:GREGORIAN
BEGIN:VEVENT
UID:a838866a6bf01b3be727e6c57e4aaee6
DTSTAMP:20260424T063502Z
SUMMARY:Hadassah book club
DESCRIPTION:Jewish Federation of the Berkshires\nBerkshire Jewish Community
  Calendar\nhttps://jewishberkshires.org/jewish-federation-of-the-berkshire
 s-calendar/hadassah-book-club-43894\n\nHadassah book club
DTSTART;TZID=America/New_York:20140522T193000
DTEND;TZID=America/New_York:20140522T210000
END:VEVENT
END:VCALENDAR
