BEGIN:VCALENDAR
PRODID:-//eluceo/ical//2.0/EN
VERSION:2.0
CALSCALE:GREGORIAN
BEGIN:VEVENT
UID:550050504c0c3d64fd20e3fa22a38626
DTSTAMP:20260422T121239Z
SUMMARY:Hadassah Book Club
DESCRIPTION:Jewish Federation of the Berkshires\nBerkshire Jewish Community
  Calendar\nhttps://jewishberkshires.org/jewish-federation-of-the-berkshire
 s-calendar/hadassah-book-club-1500568688\n\nMonthly book club meeting
DTSTART;TZID=America/New_York:20180614T193000
DTEND;TZID=America/New_York:20180614T213000
END:VEVENT
END:VCALENDAR
