BEGIN:VCALENDAR
PRODID:-//eluceo/ical//2.0/EN
VERSION:2.0
CALSCALE:GREGORIAN
BEGIN:VEVENT
UID:e4912641ba12f6f8ed8cf25cb4503587
DTSTAMP:20260422T011217Z
SUMMARY:Hadassah Book Club
DESCRIPTION:Jewish Federation of the Berkshires\nBerkshire Jewish Community
  Calendar\nhttps://jewishberkshires.org/jewish-federation-of-the-berkshire
 s-calendar/hadassah-book-club-1500568115\n\nMonthly meeting of book club
DTSTART;TZID=America/New_York:20180125T193000
DTEND;TZID=America/New_York:20180125T213000
END:VEVENT
END:VCALENDAR
