BEGIN:VCALENDAR
PRODID:-//eluceo/ical//2.0/EN
VERSION:2.0
CALSCALE:GREGORIAN
BEGIN:VEVENT
UID:e4ec2d5ab61133afccb1f34f749aef58
DTSTAMP:20260421T080209Z
SUMMARY:Hadassah Book Club
DESCRIPTION:Jewish Federation of the Berkshires\nBerkshire Jewish Community
  Calendar\nhttps://jewishberkshires.org/jewish-federation-of-the-berkshire
 s-calendar/hadassah-book-club-1500568015\n\nMonthly book club meeting
DTSTART;TZID=America/New_York:20171221T193000
DTEND;TZID=America/New_York:20171221T213000
END:VEVENT
END:VCALENDAR
