BEGIN:VCALENDAR
PRODID:-//eluceo/ical//2.0/EN
VERSION:2.0
CALSCALE:GREGORIAN
BEGIN:VEVENT
UID:4ad8e936729a1e91ceb6534ef78636a5
DTSTAMP:20260425T191530Z
SUMMARY:Hadassah Book Club
DESCRIPTION:Jewish Federation of the Berkshires\nBerkshire Jewish Community
  Calendar\nhttps://jewishberkshires.org/jewish-federation-of-the-berkshire
 s-calendar/hadassah-book-club-1470954233\n\nMeeting of Hadassah Book Club
DTSTART;TZID=America/New_York:20170323T193000
DTEND;TZID=America/New_York:20170323T193000
END:VEVENT
END:VCALENDAR
