BEGIN:VCALENDAR
PRODID:-//eluceo/ical//2.0/EN
VERSION:2.0
CALSCALE:GREGORIAN
BEGIN:VEVENT
UID:afb7182b68f10fb1b4bb63fc07361ccc
DTSTAMP:20260425T191640Z
SUMMARY:Hadassah Book Club
DESCRIPTION:Jewish Federation of the Berkshires\nBerkshire Jewish Community
  Calendar\nhttps://jewishberkshires.org/jewish-federation-of-the-berkshire
 s-calendar/hadassah-book-club-1470954144\n\nMeeting of Hadassah Book Club
DTSTART;TZID=America/New_York:20170223T193000
DTEND;TZID=America/New_York:20170223T213000
END:VEVENT
END:VCALENDAR
