BEGIN:VCALENDAR
PRODID:-//eluceo/ical//2.0/EN
VERSION:2.0
CALSCALE:GREGORIAN
BEGIN:VEVENT
UID:7a32e190b332522d400a7a3797d565d8
DTSTAMP:20260421T193424Z
SUMMARY:Hadassah Book Club
DESCRIPTION:Jewish Federation of the Berkshires\nBerkshire Jewish Community
  Calendar\nhttps://jewishberkshires.org/jewish-federation-of-the-berkshire
 s-calendar/hadassah-book-club-1470953674\n\nMeeting of Hadassah Book Club
DTSTART;TZID=America/New_York:20161027T193000
DTEND;TZID=America/New_York:20161027T213000
END:VEVENT
END:VCALENDAR
