BEGIN:VCALENDAR
PRODID:-//eluceo/ical//2.0/EN
VERSION:2.0
CALSCALE:GREGORIAN
BEGIN:VEVENT
UID:2eef6cff39452054ad3b61778ef75b7c
DTSTAMP:20260424T052236Z
SUMMARY:Hadassah Book Club
DESCRIPTION:Jewish Federation of the Berkshires\nBerkshire Jewish Community
  Calendar\nhttps://jewishberkshires.org/jewish-federation-of-the-berkshire
 s-calendar/hadassah-book-club-1439228104\n\nDiscussion of a book of genera
 l Jewish interest. Light refreshments served.
DTSTART;TZID=America/New_York:20160526T193000
DTEND;TZID=America/New_York:20160526T213000
END:VEVENT
END:VCALENDAR
